BEGIN:VCALENDAR
VERSION:2.0
PRODID:-//Paula Cabalen - ECPv6.15.20//NONSGML v1.0//EN
CALSCALE:GREGORIAN
METHOD:PUBLISH
X-ORIGINAL-URL:https://paulacabalen.com
X-WR-CALDESC:Eventos para Paula Cabalen
REFRESH-INTERVAL;VALUE=DURATION:PT1H
X-Robots-Tag:noindex
X-PUBLISHED-TTL:PT1H
BEGIN:VTIMEZONE
TZID:UTC
BEGIN:STANDARD
TZOFFSETFROM:+0000
TZOFFSETTO:+0000
TZNAME:UTC
DTSTART:20240101T000000
END:STANDARD
END:VTIMEZONE
BEGIN:VEVENT
DTSTART;TZID=UTC:20251001T100000
DTEND;TZID=UTC:20251002T140000
DTSTAMP:20260423T214922
CREATED:20220903T211844Z
LAST-MODIFIED:20250916T213433Z
UID:3410-1759312800-1759413600@paulacabalen.com
SUMMARY:Hello Points · Workshop Online
DESCRIPTION:Información sobre el workshop \n\n← Volver Gracias por tu respuesta. ✨\n\n\n					\n						\n							\n							\n						\n						\n						\n						\n						\n							\n								\n									\n										\n										\n									\n									\n										\n										\n									\n								\n							\n						\n						\n							\n								\n									\n									\n										\n									\n									\n									\n								\n							\n						\n					\n				\n\n\n\nNombre(obligatorio)\n\n \n			\n				\n					\n						\n						\n						\n					\n				\n				\n			 \n	\n\n\nCorreo electrónico(obligatorio)\n\n \n			\n				\n					\n						\n						\n						\n					\n				\n				\n			 \n	\n\n\nWeb\n\n \n			\n				\n					\n						\n						\n						\n					\n				\n				\n			 \n	\n\n\nMensaje\n\n \n			\n				\n					\n						\n						\n						\n					\n				\n				\n			\n	\n	\n\n				\n					\n				\n						Enviar		\n		\n		\n	 \nΔ
URL:https://paulacabalen.com/event/hello-points-%c2%b7-workshop/
LOCATION:BARILOCHE
CATEGORIES:Argentina,Costa Rica,Entrenamiento,Estados Unidos,Experiencia,Honduras,Nicaragua,Panama,Points of You,Points of You Academy,República Dominicana,Taller,Workshop
ATTACH;FMTTYPE=image/png:https://paulacabalen.com/wp-content/uploads/2023/02/Hello-Points-6.png
ORGANIZER;CN="Paula Cabal%C3%A9n":MAILTO:paula.cabalen@gmail.com
END:VEVENT
BEGIN:VEVENT
DTSTART;TZID=UTC:20251015T080000
DTEND;TZID=UTC:20251019T170000
DTSTAMP:20260423T214922
CREATED:20250916T215200Z
LAST-MODIFIED:20250916T215200Z
UID:11170-1760515200-1760893200@paulacabalen.com
SUMMARY:OMEFEST ´25 Vietnam
DESCRIPTION:← Volver Gracias por tu respuesta. ✨\n\n\n					\n						\n							\n							\n						\n						\n						\n						\n						\n							\n								\n									\n										\n										\n									\n									\n										\n										\n									\n								\n							\n						\n						\n							\n								\n									\n									\n										\n									\n									\n									\n								\n							\n						\n					\n				\n\n\n\nNombre(obligatorio)\n\n \n			\n				\n					\n						\n						\n						\n					\n				\n				\n			 \n	\n\n\nCorreo electrónico(obligatorio)\n\n \n			\n				\n					\n						\n						\n						\n					\n				\n				\n			 \n	\n\n\nWeb\n\n \n			\n				\n					\n						\n						\n						\n					\n				\n				\n			 \n	\n\n\nMensaje\n\n \n			\n				\n					\n						\n						\n						\n					\n				\n				\n			\n	\n	\n\n				\n					\n				\n						Enviar		\n		\n		\n	 \nΔ \n\n 
URL:https://paulacabalen.com/event/omefest-25-vietnam/
LOCATION:BARILOCHE
CATEGORIES:Retreat,Vietnam,Workshop
ATTACH;FMTTYPE=image/png:https://paulacabalen.com/wp-content/uploads/2025/09/1.png
END:VEVENT
BEGIN:VEVENT
DTSTART;TZID=UTC:20251027T110000
DTEND;TZID=UTC:20251030T150000
DTSTAMP:20260423T214922
CREATED:20220903T212451Z
LAST-MODIFIED:20250916T213644Z
UID:3422-1761562800-1761836400@paulacabalen.com
SUMMARY:Creative Practice Workshop Online
DESCRIPTION:Información sobre el Workshop \n\n← Volver Gracias por tu respuesta. ✨\n\n\n					\n						\n							\n							\n						\n						\n						\n						\n						\n							\n								\n									\n										\n										\n									\n									\n										\n										\n									\n								\n							\n						\n						\n							\n								\n									\n									\n										\n									\n									\n									\n								\n							\n						\n					\n				\n\n\n\nNombre(obligatorio)\n\n \n			\n				\n					\n						\n						\n						\n					\n				\n				\n			 \n	\n\n\nCorreo electrónico(obligatorio)\n\n \n			\n				\n					\n						\n						\n						\n					\n				\n				\n			 \n	\n\n\nWeb\n\n \n			\n				\n					\n						\n						\n						\n					\n				\n				\n			 \n	\n\n\nMensaje\n\n \n			\n				\n					\n						\n						\n						\n					\n				\n				\n			\n	\n	\n\n				\n					\n				\n						Enviar		\n		\n		\n	 \nΔ
URL:https://paulacabalen.com/event/creative-practice-workshop/
LOCATION:BARILOCHE
CATEGORIES:Argentina,Costa Rica,El Salvador,Entrenamiento,Estados Unidos,Experiencia,Honduras,Nicaragua,Panama,Points of You,Points of You Academy,República Dominicana,Taller,Workshop
ATTACH;FMTTYPE=image/jpeg:https://paulacabalen.com/wp-content/uploads/2022/09/7-1.jpg
ORGANIZER;CN="Paula Cabal%C3%A9n":MAILTO:paula.cabalen@gmail.com
END:VEVENT
END:VCALENDAR