BEGIN:VCALENDAR
VERSION:2.0
PRODID:-//Paula Cabalen - ECPv6.15.20//NONSGML v1.0//EN
CALSCALE:GREGORIAN
METHOD:PUBLISH
X-ORIGINAL-URL:https://paulacabalen.com
X-WR-CALDESC:Eventos para Paula Cabalen
REFRESH-INTERVAL;VALUE=DURATION:PT1H
X-Robots-Tag:noindex
X-PUBLISHED-TTL:PT1H
BEGIN:VTIMEZONE
TZID:UTC
BEGIN:STANDARD
TZOFFSETFROM:+0000
TZOFFSETTO:+0000
TZNAME:UTC
DTSTART:20250101T000000
END:STANDARD
END:VTIMEZONE
BEGIN:VEVENT
DTSTART;TZID=UTC:20261014T140000
DTEND;TZID=UTC:20261018T140000
DTSTAMP:20260423T203458
CREATED:20260312T195227Z
LAST-MODIFIED:20260312T195607Z
UID:11408-1791986400-1792332000@paulacabalen.com
SUMMARY:OMEFEST `26 · Bariloche\, Argentina
DESCRIPTION:← Volver Gracias por tu respuesta. ✨\n\n\n					\n						\n							\n							\n						\n						\n						\n						\n						\n							\n								\n									\n										\n										\n									\n									\n										\n										\n									\n								\n							\n						\n						\n							\n								\n									\n									\n										\n									\n									\n									\n								\n							\n						\n					\n				\n\n\n\nNombre(obligatorio)\n\n \n			\n				\n					\n						\n						\n						\n					\n				\n				\n			 \n	\n\n\nCorreo electrónico(obligatorio)\n\n \n			\n				\n					\n						\n						\n						\n					\n				\n				\n			 \n	\n\n\nWeb\n\n \n			\n				\n					\n						\n						\n						\n					\n				\n				\n			 \n	\n\n\nMensaje\n\n \n			\n				\n					\n						\n						\n						\n					\n				\n				\n			\n	\n	\n\n				\n					\n				\n						Enviar		\n		\n		\n	 \nΔ
URL:https://paulacabalen.com/event/omefest-26-%c2%b7-bariloche-argentina/
LOCATION:HUINID HOTEL BARILOCHE\, BARILOCHE\, Argentina
CATEGORIES:Argentina,BARILOCHE,Experiencia
ATTACH;FMTTYPE=image/png:https://paulacabalen.com/wp-content/uploads/2026/03/OME-Post-Vertical-2025-8.png
END:VEVENT
END:VCALENDAR