BEGIN:VCALENDAR
VERSION:2.0
PRODID:-//Paula Cabalen - ECPv6.15.20//NONSGML v1.0//EN
CALSCALE:GREGORIAN
METHOD:PUBLISH
X-WR-CALNAME:Paula Cabalen
X-ORIGINAL-URL:https://paulacabalen.com
X-WR-CALDESC:Eventos para Paula Cabalen
REFRESH-INTERVAL;VALUE=DURATION:PT1H
X-Robots-Tag:noindex
X-PUBLISHED-TTL:PT1H
BEGIN:VTIMEZONE
TZID:UTC
BEGIN:STANDARD
TZOFFSETFROM:+0000
TZOFFSETTO:+0000
TZNAME:UTC
DTSTART:20240101T000000
END:STANDARD
END:VTIMEZONE
BEGIN:VEVENT
DTSTART;TZID=UTC:20250429T100000
DTEND;TZID=UTC:20250429T130000
DTSTAMP:20260424T110538
CREATED:20220903T204741Z
LAST-MODIFIED:20250416T205145Z
UID:3405-1745920800-1745931600@paulacabalen.com
SUMMARY:Life Balance Workshop
DESCRIPTION:Click para más información \n\n← Volver Gracias por tu respuesta. ✨\n\n\n					\n						\n							\n							\n						\n						\n						\n						\n						\n							\n								\n									\n										\n										\n									\n									\n										\n										\n									\n								\n							\n						\n						\n							\n								\n									\n									\n										\n									\n									\n									\n								\n							\n						\n					\n				\n\n\n\nNombre(obligatorio)\n\n \n			\n				\n					\n						\n						\n						\n					\n				\n				\n			 \n	\n\n\nCorreo electrónico(obligatorio)\n\n \n			\n				\n					\n						\n						\n						\n					\n				\n				\n			 \n	\n\n\nWeb\n\n \n			\n				\n					\n						\n						\n						\n					\n				\n				\n			 \n	\n\n\nMensaje\n\n \n			\n				\n					\n						\n						\n						\n					\n				\n				\n			\n	\n	\n\n				\n					\n				\n						Enviar		\n		\n		\n	 \nΔ
URL:https://paulacabalen.com/event/visual-learning-workshop/
CATEGORIES:Argentina,Costa Rica,El Salvador,Entrenamiento,Estados Unidos,Experiencia,Honduras,Nicaragua,Panama,Points of You,República Dominicana,Taller,Workshop
ATTACH;FMTTYPE=image/png:https://paulacabalen.com/wp-content/uploads/2023/02/Visual-Learning-8.png
ORGANIZER;CN="Paula Cabal%C3%A9n":MAILTO:paula.cabalen@gmail.com
END:VEVENT
END:VCALENDAR