BEGIN:VCALENDAR
VERSION:2.0
PRODID:-//Paula Cabalen - ECPv6.15.20//NONSGML v1.0//EN
CALSCALE:GREGORIAN
METHOD:PUBLISH
X-ORIGINAL-URL:https://paulacabalen.com
X-WR-CALDESC:Eventos para Paula Cabalen
REFRESH-INTERVAL;VALUE=DURATION:PT1H
X-Robots-Tag:noindex
X-PUBLISHED-TTL:PT1H
BEGIN:VTIMEZONE
TZID:UTC
BEGIN:STANDARD
TZOFFSETFROM:+0000
TZOFFSETTO:+0000
TZNAME:UTC
DTSTART:20240101T000000
END:STANDARD
END:VTIMEZONE
BEGIN:VEVENT
DTSTART;TZID=UTC:20251015T080000
DTEND;TZID=UTC:20251019T170000
DTSTAMP:20260423T230153
CREATED:20250916T215200Z
LAST-MODIFIED:20250916T215200Z
UID:11170-1760515200-1760893200@paulacabalen.com
SUMMARY:OMEFEST ´25 Vietnam
DESCRIPTION:← Volver Gracias por tu respuesta. ✨\n\n\n					\n						\n							\n							\n						\n						\n						\n						\n						\n							\n								\n									\n										\n										\n									\n									\n										\n										\n									\n								\n							\n						\n						\n							\n								\n									\n									\n										\n									\n									\n									\n								\n							\n						\n					\n				\n\n\n\nNombre(obligatorio)\n\n \n			\n				\n					\n						\n						\n						\n					\n				\n				\n			 \n	\n\n\nCorreo electrónico(obligatorio)\n\n \n			\n				\n					\n						\n						\n						\n					\n				\n				\n			 \n	\n\n\nWeb\n\n \n			\n				\n					\n						\n						\n						\n					\n				\n				\n			 \n	\n\n\nMensaje\n\n \n			\n				\n					\n						\n						\n						\n					\n				\n				\n			\n	\n	\n\n				\n					\n				\n						Enviar		\n		\n		\n	 \nΔ \n\n 
URL:https://paulacabalen.com/event/omefest-25-vietnam/
LOCATION:BARILOCHE
CATEGORIES:Retreat,Vietnam,Workshop
ATTACH;FMTTYPE=image/png:https://paulacabalen.com/wp-content/uploads/2025/09/1.png
END:VEVENT
END:VCALENDAR