BEGIN:VCALENDAR
VERSION:2.0
PRODID:-//Paula Cabalen - ECPv6.15.20//NONSGML v1.0//EN
CALSCALE:GREGORIAN
METHOD:PUBLISH
X-ORIGINAL-URL:https://paulacabalen.com
X-WR-CALDESC:Eventos para Paula Cabalen
REFRESH-INTERVAL;VALUE=DURATION:PT1H
X-Robots-Tag:noindex
X-PUBLISHED-TTL:PT1H
BEGIN:VTIMEZONE
TZID:America/Argentina/Buenos_Aires
BEGIN:STANDARD
TZOFFSETFROM:-0300
TZOFFSETTO:-0300
TZNAME:-03
DTSTART:20240101T000000
END:STANDARD
END:VTIMEZONE
BEGIN:VEVENT
DTSTART;TZID=America/Argentina/Buenos_Aires:20250503T100000
DTEND;TZID=America/Argentina/Buenos_Aires:20250503T123000
DTSTAMP:20260424T053831
CREATED:20250105T102913Z
LAST-MODIFIED:20250416T204810Z
UID:10436-1746266400-1746275400@paulacabalen.com
SUMMARY:Vision Board Workshop
DESCRIPTION:Crea tu Vida  – Reto + Workshop [Comunidad]
URL:https://paulacabalen.com/event/vision-board-workshop/
LOCATION:BARILOCHE
END:VEVENT
END:VCALENDAR